BEGIN:VCALENDAR
VERSION:2.0
PRODID:-//eventon.com NONSGML v1.0//EN
CALSCALE:GREGORIAN
METHOD:PUBLISH
BEGIN:VEVENT
UID:69ed8d444edae
DTSTAMP:20260426T035756Z
DTSTART:20260426T110000Z
DTEND:20260426T160000Z
LOCATION:Radolfzell-Markelfingen\,  Markolfhalle Pirminweg 5\,  78315 Radolfzell-Markelfingen
SUMMARY:Seniorensporttag 2026 - 'Macht mit - habt Spaß"
DESCRIPTION:mit sportlichen Angeboten und buntem Unterhaltungsprogramm. Wan
 dern\,  Nordic-Walking\,  Boule- und Einhandvolleyballturnier am 27.04.2026
  ab 13.00 Uhr\,  buntes Unterhaltungsprogramm ab ca. 15.00 Uhr. Erste Infor
 mationen für den Seniorensporttag in Radolfzell-Markelfingen finden Sie hi
 er Der Flyer zum Seniorensporttag 2026 hier Das Anmeldeformular hier Anmeld
 ungen für die Spielrunden bitte bis zum 31.3.2026. Siehe[..]\nhttps://hbtg
 .de/events/seniorensporttag-2026-macht-mit-habt-spass/
URL:https://hbtg.de/events/seniorensporttag-2026-macht-mit-habt-spass/
END:VEVENT
END:VCALENDAR