BEGIN:VCALENDAR
VERSION:2.0
PRODID:-//eventon.com NONSGML v1.0//EN
CALSCALE:GREGORIAN
METHOD:PUBLISH
BEGIN:VEVENT
UID:69e583a7d7763
DTSTAMP:20260420T013847Z
DTSTART:20260426T100000Z
DTEND:20260426T130000Z
LOCATION:Radolfzell-Markelfingen\,  Markolfhalle Pirminweg 5\,  78315 Radolfzell-Markelfingen
SUMMARY:Boule-Spielrunde 2026\,  1. Termin beim Seniorensporttag 2026
DESCRIPTION:Boule gehört nicht unbedingt zu den Sportarten des BTB\,  aber
  es ist sehr gut auch für Seniorengruppen geeignet. Der HBTG veranstaltet 
 auch 2026 eine Spielrunde mit drei Spielterminen. Weitere Infos und Anmelde
 bogen hier als pdf-Datei. Hier das Anmeldeformular zum Bearbeiten am PC &#8
 211; Anmeldungen bitte an anmeldung@hbtg.de schicken. Meldeschluss für[..]
 \nhttps://hbtg.de/events/boule-spielrunde-2026-1-termin-beim-seniorensportt
 ag-2026/
URL:https://hbtg.de/events/boule-spielrunde-2026-1-termin-beim-seniorensporttag-2026/
END:VEVENT
END:VCALENDAR